BEGIN:VCALENDAR
VERSION:2.0
PRODID:-//Compagnie Synolu - ECPv4.6.22//NONSGML v1.0//EN
CALSCALE:GREGORIAN
METHOD:PUBLISH
X-WR-CALNAME:Compagnie Synolu
X-ORIGINAL-URL:https://compagniesynolu.com
X-WR-CALDESC:Events for Compagnie Synolu
BEGIN:VEVENT
DTSTART;VALUE=DATE:20180324
DTEND;VALUE=DATE:20180325
DTSTAMP:20260425T114519
CREATED:20170901T131908Z
LAST-MODIFIED:20170906T085219Z
UID:1531-1521849600-1521935999@compagniesynolu.com
SUMMARY:Concours chorégraphique
DESCRIPTION:
URL:https://compagniesynolu.com/event/concours-choregraphique-2018/
LOCATION:Le Cube\, Sente du clos de la Vigne\, La Houssaye en Brie\, 77610\, France Métropolitaine
ATTACH;FMTTYPE=image/jpeg:https://compagniesynolu.com/wp-content/uploads/2017/09/VVR_600.jpg
END:VEVENT
END:VCALENDAR